BEGIN:VCALENDAR
VERSION:2.0
PRODID:-//Hudson Area Public Library District - ECPv6.15.20//NONSGML v1.0//EN
CALSCALE:GREGORIAN
METHOD:PUBLISH
X-WR-CALNAME:Hudson Area Public Library District
X-ORIGINAL-URL:https://hudsonarealibrary.com
X-WR-CALDESC:Events for Hudson Area Public Library District
REFRESH-INTERVAL;VALUE=DURATION:PT1H
X-Robots-Tag:noindex
X-PUBLISHED-TTL:PT1H
BEGIN:VTIMEZONE
TZID:America/Chicago
BEGIN:DAYLIGHT
TZOFFSETFROM:-0600
TZOFFSETTO:-0500
TZNAME:CDT
DTSTART:20250309T080000
END:DAYLIGHT
BEGIN:STANDARD
TZOFFSETFROM:-0500
TZOFFSETTO:-0600
TZNAME:CST
DTSTART:20251102T070000
END:STANDARD
BEGIN:DAYLIGHT
TZOFFSETFROM:-0600
TZOFFSETTO:-0500
TZNAME:CDT
DTSTART:20260308T080000
END:DAYLIGHT
BEGIN:STANDARD
TZOFFSETFROM:-0500
TZOFFSETTO:-0600
TZNAME:CST
DTSTART:20261101T070000
END:STANDARD
BEGIN:DAYLIGHT
TZOFFSETFROM:-0600
TZOFFSETTO:-0500
TZNAME:CDT
DTSTART:20270314T080000
END:DAYLIGHT
BEGIN:STANDARD
TZOFFSETFROM:-0500
TZOFFSETTO:-0600
TZNAME:CST
DTSTART:20271107T070000
END:STANDARD
END:VTIMEZONE
BEGIN:VEVENT
DTSTART;TZID=America/Chicago:20260421T190000
DTEND;TZID=America/Chicago:20260421T200000
DTSTAMP:20260421T090932
CREATED:20260319T202230Z
LAST-MODIFIED:20260319T202230Z
UID:19544-1776798000-1776801600@hudsonarealibrary.com
SUMMARY:True Crime Chronicles Book Club
DESCRIPTION:Our April True Crime Chronicles selection is The Mother Next Door by Andrea Dunlop and Mike Weber\, “A page-turning\, jaw-dropping examination of [Munchausen by Proxy]\, our health-care system\, and the ways that perpetrators hide in plain sight.” (Nora McInerny) Request your copy at the library desk and join us in a thoughtful conversation that will challenge our perspectives\, deepen our understanding\, and foster a community of curious minds.
URL:https://hudsonarealibrary.com/event/true-crime-chronicles-book-club/
ATTACH;FMTTYPE=image/png:https://hudsonarealibrary.com/wp-content/uploads/2024/11/TrueCrimeChronicles.png
END:VEVENT
END:VCALENDAR