BEGIN:VCALENDAR
VERSION:2.0
PRODID:-//Hudson Area Public Library District - ECPv6.15.20//NONSGML v1.0//EN
CALSCALE:GREGORIAN
METHOD:PUBLISH
X-WR-CALNAME:Hudson Area Public Library District
X-ORIGINAL-URL:https://hudsonarealibrary.com
X-WR-CALDESC:Events for Hudson Area Public Library District
REFRESH-INTERVAL;VALUE=DURATION:PT1H
X-Robots-Tag:noindex
X-PUBLISHED-TTL:PT1H
BEGIN:VTIMEZONE
TZID:America/Chicago
BEGIN:DAYLIGHT
TZOFFSETFROM:-0600
TZOFFSETTO:-0500
TZNAME:CDT
DTSTART:20250309T080000
END:DAYLIGHT
BEGIN:STANDARD
TZOFFSETFROM:-0500
TZOFFSETTO:-0600
TZNAME:CST
DTSTART:20251102T070000
END:STANDARD
BEGIN:DAYLIGHT
TZOFFSETFROM:-0600
TZOFFSETTO:-0500
TZNAME:CDT
DTSTART:20260308T080000
END:DAYLIGHT
BEGIN:STANDARD
TZOFFSETFROM:-0500
TZOFFSETTO:-0600
TZNAME:CST
DTSTART:20261101T070000
END:STANDARD
BEGIN:DAYLIGHT
TZOFFSETFROM:-0600
TZOFFSETTO:-0500
TZNAME:CDT
DTSTART:20270314T080000
END:DAYLIGHT
BEGIN:STANDARD
TZOFFSETFROM:-0500
TZOFFSETTO:-0600
TZNAME:CST
DTSTART:20271107T070000
END:STANDARD
END:VTIMEZONE
BEGIN:VEVENT
DTSTART;TZID=America/Chicago:20260420T190000
DTEND;TZID=America/Chicago:20260420T200000
DTSTAMP:20260420T223325
CREATED:20260319T201651Z
LAST-MODIFIED:20260319T201711Z
UID:19541-1776711600-1776715200@hudsonarealibrary.com
SUMMARY:Hudson History Club
DESCRIPTION:The Hudson History Club meets on the Third Monday of the month to discuss the history of Hudson and its people and places. If local history interests you\, we encourage you to come\, to learn and to share.
URL:https://hudsonarealibrary.com/event/hudson-history-club-2/
ATTACH;FMTTYPE=image/png:https://hudsonarealibrary.com/wp-content/uploads/2025/02/history-club-banner.png
END:VEVENT
END:VCALENDAR